BEGIN:VCALENDAR
VERSION:2.0
PRODID:-//wp-events-plugin.com//7.2.2.1//EN
BEGIN:VEVENT
UID:214@theheathfieldnews.co.uk
DTSTART:20230923T100000Z
DTEND:20230923T140000Z
DTSTAMP:20230918T152533Z
URL:https://www.theheathfieldnews.co.uk/whats-on/acropora-third-birthday-c
 elebration-event-saturday-23-september/
SUMMARY:An invitation to join Acropora Massage & Beauty Therapy to celebrat
 e its third birthday on Saturday 23 September
DESCRIPTION:&nbsp\;\n\n\n\n&nbsp\;\n\nYou are invited to pop in and enjoy s
 ome refreshments and fun at Acropora on Heathfield High Street this Saturd
 ay 23 September. Acropora will be celebrating its third year in Heathfield
  and toasting its expansion into the upper floors of the site. Acropora is
  an established centre for totally relaxing and holistic experiences whate
 ver your treatment.. ​from a choice of massages to facials and pedicures
  alongside other treatments.\n\nThe owner\, Lia\, will be offering tours o
 f the new treatment rooms and a fabulous relaxation area for unwinding aft
 er treatments whilst you enjoy some light refreshments and a chance to rel
 ax. There will be a lucky dip to raise funds for Children with Cancer Char
 ity and special offers and promotions.\n\nAcropora\, 71 High Street\, Heat
 hfield\, East Sussex TN21 8HU\n\nSaturday 23 September 10-2pm\nBookings an
 d information: 01435 867977​
ATTACH;FMTTYPE=image/jpeg:https://www.theheathfieldnews.co.uk/wp-content/u
 ploads/2023/09/Screenshot_20230917_171809_Facebook-002.jpg
LOCATION:Heathfield\, .\, Heathfield\, East Sussex\, TN21\, South East \, U
 nited Kingdom
GEO:50.9667401;0.2564428000000589
X-APPLE-STRUCTURED-LOCATION;VALUE=URI;X-ADDRESS=.\, Heathfield\, East Susse
 x\, TN21\, South East \, United Kingdom;X-APPLE-RADIUS=100;X-TITLE=Heathfi
 eld:geo:50.9667401,0.2564428000000589
END:VEVENT
END:VCALENDAR