BEGIN:VCALENDAR
VERSION:2.0
PRODID:-//wp-events-plugin.com//7.2.2.1//EN
BEGIN:VEVENT
UID:204@theheathfieldnews.co.uk
DTSTART:20230124T093000Z
DTEND:20230124T150000Z
DTSTAMP:20230119T122236Z
URL:https://www.theheathfieldnews.co.uk/whats-on/benefits-information-drop
 -in-taking-place-in-heathfield-on-24-january/
SUMMARY:Benefits information drop-in taking place in Heathfield on 24 Janua
 ry
DESCRIPTION:
ATTACH;FMTTYPE=image/jpeg:https://www.theheathfieldnews.co.uk/wp-content/u
 ploads/2022/04/wealden-dc-logo-1.jpg
LOCATION:Heathfield\, .\, Heathfield\, East Sussex\, TN21\, South East \, U
 nited Kingdom
GEO:50.9667401;0.2564428000000589
X-APPLE-STRUCTURED-LOCATION;VALUE=URI;X-ADDRESS=.\, Heathfield\, East Susse
 x\, TN21\, South East \, United Kingdom;X-APPLE-RADIUS=100;X-TITLE=Heathfi
 eld:geo:50.9667401,0.2564428000000589
END:VEVENT
END:VCALENDAR