BEGIN:VCALENDAR
VERSION:2.0
PRODID:-//wp-events-plugin.com//7.2.2.1//EN
BEGIN:VEVENT
UID:217@theheathfieldnews.co.uk
DTSTART:20231210T120000Z
DTEND:20231210T180000Z
DTSTAMP:20231130T141704Z
URL:https://www.theheathfieldnews.co.uk/whats-on/big-christmas-tasting-on-
 10-december-at-cuculo-heathfield/
SUMMARY:Big Christmas Tasting on 10 December at Cuculo\, Heathfield
DESCRIPTION:\n\nEnjoy a festive event at Cuculo on Heathfield High Street. 
 Sunday 10 December.\n\nIt's a great opportunity to try before you by with 
 a fantastic selection of wines\, spirits\, liqueurs and foods to try.\n\nE
 ach slot is two hours\, plenty of time to enjoy everything on offer!\n\nTh
 ere are still a few tickets available so BOOK NOW to avoid disappointment.
 \n\nBOOK HERE FOR THE CUCULO BIG CHRISTMAS TASTING\n\nEnquiries: 01435 862
  596
ATTACH;FMTTYPE=image/jpeg:https://www.theheathfieldnews.co.uk/wp-content/u
 ploads/2023/11/1.png
END:VEVENT
END:VCALENDAR