BEGIN:VCALENDAR
VERSION:2.0
PRODID:-//wp-events-plugin.com//7.2.2.1//EN
BEGIN:VEVENT
UID:211@theheathfieldnews.co.uk
DTSTART:20230803T100000Z
DTEND:20230803T160000Z
DTSTAMP:20230718T142549Z
URL:https://www.theheathfieldnews.co.uk/whats-on/celebrity-antiques-expert
 -charles-hanson-hosts-charity-valuation-day/
SUMMARY:Celebrity antiques expert Charles Hanson hosts charity valuation da
 y
DESCRIPTION:Find out what your family heirlooms gathering dust in the attic
  could be worth as TV’s very own antiques expert Charles Hanson hosts a 
 special Valuation Day in Five Ashes.\n\nWhether it’s a family heirloom o
 r a treasure found at your local charity shop\, discover its secrets and v
 alue with Charles Hanson\, supported by fellow antiques expert Stephanie C
 onnell as they host this fabulous event on Thursday 3rd August\, all in ai
 d of Hospice in the Weald.\n\nIt takes place from 10am-4pm\, at Cottage Ho
 spice\, where visitors will have the chance to enjoy tea\, coffee and cake
 \, as well as seeing what others have brought along. Once an item has been
  valued\, there is also the option to auction the item/s at a later date w
 ith Hansons Auctioneers in Tunbridge Wells\, and you can opt to donate som
 e or all proceeds to Hospice in the Weald\, but this is not required.\n\n&
 nbsp\;\n\n\n\n&nbsp\;\n\n&nbsp\;
ATTACH;FMTTYPE=image/jpeg:https://www.theheathfieldnews.co.uk/wp-content/u
 ploads/2023/07/ch-4-1.png
LOCATION:Five Ashes\, .\, Five Ashes\, United Kingdom
X-APPLE-STRUCTURED-LOCATION;VALUE=URI;X-ADDRESS=.\, Five Ashes\, United Kin
 gdom;X-APPLE-RADIUS=100;X-TITLE=Five Ashes:geo:0,0
END:VEVENT
END:VCALENDAR