BEGIN:VCALENDAR
VERSION:2.0
PRODID:-//wp-events-plugin.com//7.2.2.1//EN
BEGIN:VEVENT
UID:208@theheathfieldnews.co.uk
DTSTART:20230730T140000Z
DTEND:20230730T190000Z
DTSTAMP:20230629T202016Z
URL:https://www.theheathfieldnews.co.uk/whats-on/cuculo-summer-wines-tasti
 ng-sunday-30-july-instore-book-now/
SUMMARY:Cuculo Summer Wines Tasting\, Sunday 30 July - instore BOOK NOW
DESCRIPTION:July's wine tasting is focusing on wines with a Summer vibe. En
 joy a selection of wines in store at Cuculo on Heathfield High Street. The
  event is a relaxed self-pour event accompanied with delicious food from t
 he counters and shelves. It's a fantastic opportunity to try out some of c
 uculo's wonderful single estate Italian wines and enjoy some discounts on 
 the day.\n\nFind out more and Book HERE \n\nOr call o1435 862596 to book 
 a slot\n\n
ATTACH;FMTTYPE=image/jpeg:https://www.theheathfieldnews.co.uk/wp-content/u
 ploads/2023/06/sommelier-pouring-wine-into-wine-glasses-for-wine-2022-10-2
 7-20-04-28-utc.jpg
LOCATION:Heathfield\, .\, Heathfield\, East Sussex\, TN21\, South East \, U
 nited Kingdom
GEO:50.9667401;0.2564428000000589
X-APPLE-STRUCTURED-LOCATION;VALUE=URI;X-ADDRESS=.\, Heathfield\, East Susse
 x\, TN21\, South East \, United Kingdom;X-APPLE-RADIUS=100;X-TITLE=Heathfi
 eld:geo:50.9667401,0.2564428000000589
END:VEVENT
END:VCALENDAR