BEGIN:VCALENDAR
VERSION:2.0
PRODID:-//wp-events-plugin.com//7.2.2.1//EN
BEGIN:VEVENT
UID:209@theheathfieldnews.co.uk
DTSTART:20230722T130000Z
DTEND:20230722T160000Z
DTSTAMP:20230707T105458Z
URL:https://www.theheathfieldnews.co.uk/whats-on/enjoy-folk-feast-at-off-t
 he-line-vineyard-on-saturday-22-july/
SUMMARY:Enjoy Folk & Feast at Off the Line Vineyard on Saturday 22 July
DESCRIPTION:&nbsp\;\n\nBOOK HERE FOR TICKETS for the Folk &amp\; Feast at t
 he Off the Line Vineyard\n\nEnjoy the beautiful setting at Off the Line Vi
 neyard\, take a tour around\, enjoy the wine\, food and music - Saturday 2
 2 July at the vineyard on North Street\, Hellingly\n\n\n\n&nbsp\;\n\n&nbsp
 \;\n\n&nbsp\;\n\n&nbsp\;\n\n&nbsp\;\n\n&nbsp\;\n\n&nbsp\;\n\n&nbsp\;\n\n&n
 bsp\;\n\n&nbsp\;\n\n&nbsp\;\n\n&nbsp\;\n\n&nbsp\;\n\n&nbsp\;\n\n&nbsp\;\n\
 n&nbsp\;\n\n&nbsp\;\n\n&nbsp\;\n\n&nbsp\;\n\n&nbsp\;\n\n&nbsp\;\n\n&nbsp\;
 \n\nBOOK HERE FOR TICKETS for the Folk &amp\; Feast at the Off the Line Vi
 neyard\n\nEnjoy the beautiful setting at Off the Line Vineyard\, take a to
 ur around\, enjoy the wine\, food and music - Saturday 22 July at the vine
 yard on North Street\, Hellingly\n\n&nbsp\;
ATTACH;FMTTYPE=image/jpeg:https://www.theheathfieldnews.co.uk/wp-content/u
 ploads/2020/10/Off_the_Line_Main_Logo_RGB.jpg
LOCATION:Hellingly\, .\, Hellingly\, United Kingdom
X-APPLE-STRUCTURED-LOCATION;VALUE=URI;X-ADDRESS=.\, Hellingly\, United King
 dom;X-APPLE-RADIUS=100;X-TITLE=Hellingly:geo:0,0
END:VEVENT
END:VCALENDAR