BEGIN:VCALENDAR
VERSION:2.0
PRODID:-//wp-events-plugin.com//7.2.2.1//EN
BEGIN:VEVENT
UID:143@theheathfieldnews.co.uk
DTSTART:20191129T100000Z
DTEND:20191129T113000Z
DTSTAMP:20191114T130750Z
URL:https://www.theheathfieldnews.co.uk/whats-on/financial-surgery-drop-in
 -session/
SUMMARY:Financial surgery drop in session
DESCRIPTION:Cranwell Wealth Solutions will be holding one of their popular 
 drop in sessions this month. It's a great opportunity to get any of the qu
 eries you have answered by an expert.\n\n&nbsp\;\n\n&nbsp\;\n\n&nbsp\;\n\n
ATTACH;FMTTYPE=image/jpeg:https://www.theheathfieldnews.co.uk/wp-content/u
 ploads/2019/11/Cranwell-drop-in-surgery-November-2019.jpg
END:VEVENT
END:VCALENDAR