BEGIN:VCALENDAR
VERSION:2.0
PRODID:-//wp-events-plugin.com//7.2.2.1//EN
BEGIN:VEVENT
UID:206@theheathfieldnews.co.uk
DTSTART:20230527T083000Z
DTEND:20230527T171500Z
DTSTAMP:20230411T134447Z
URL:https://www.theheathfieldnews.co.uk/whats-on/heathfield-agricultural-s
 how-saturday-27-may-2023/
SUMMARY:Heathfield Agricultural Show\, Saturday 27 May 2023
DESCRIPTION:This year's Heathfield Agricultural Show takes place on Saturda
 y 27 May 2023 at the Tottingworth Farm Showground\, near Broad Oak\, East 
 Sussex. The show opens at 8.30am and is an action packed event which bring
 s the best of the countryside to its audience. Children are FREE and there
  is lots to entertain them. Highlights include the Shetland Derby\, Big Pe
 te and the Monster Trucks\, fairground attractions\, food &amp\; drink out
 lets plus all of the established livestock competition classes featuring s
 heep\, cattle\, pigs\, heavy horses\, dog agility\, hounds and more.\n\n 	
 Arts &amp\; Craft marquee\n 	Education Area\n 	New Enterprize Zone\n 	Coun
 try Ways\n 	Farmers Market\n 	Flower Show\n 	Green Initiative\n 	Poultry m
 arquee\n 	Women's Institute\n 	Vintage tractors &amp\; working steam\n\nFO
 R A DISCOUNT ON TICKETS BUY NOW HERE\n\n&nbsp\;
ATTACH;FMTTYPE=image/jpeg:https://www.theheathfieldnews.co.uk/wp-content/u
 ploads/2023/04/SATURDAY-27-MAY-2023.png
LOCATION:Broad Oak\, .\, Broad Oak\, United Kingdom
X-APPLE-STRUCTURED-LOCATION;VALUE=URI;X-ADDRESS=.\, Broad Oak\, United King
 dom;X-APPLE-RADIUS=100;X-TITLE=Broad Oak:geo:0,0
END:VEVENT
END:VCALENDAR