BEGIN:VCALENDAR
VERSION:2.0
PRODID:-//wp-events-plugin.com//7.2.2.1//EN
BEGIN:VEVENT
UID:142@theheathfieldnews.co.uk
DTSTART:20191130T130000Z
DTEND:20191130T173000Z
DTSTAMP:20191125T211453Z
URL:https://www.theheathfieldnews.co.uk/whats-on/heathfield-christmas-fund
 ay-for-all-the-family/
SUMMARY:Heathfield Christmas Funday for all the family
DESCRIPTION:This year you can enjoy a FREE day out in Heathfield to celebra
 te the start of the festive season. Enjoy fun for all the family\, shoppin
 g\, Warbleton Brass Band\, choirs\, Kids activity in the State Hall - face
  painting\, glitter tattoos\, activity by The Flower Workshop\, AB Stage S
 chool\, stalls selling local produce all along the High St\, Santa's Grott
 o in Trading 4U and the switching on of the lights at the fire station at 
 3.45. Show your support to all of the great local businesses\, who weather
 ed the storm of the High St road closure this time last year\, and have un
 ited this November to bring you this fun day out. SEE YOU THERE.\n\n\n\n&n
 bsp\;\n\n&nbsp\;\n\n\n\n&nbsp\;\n\n\n\n&nbsp\;\n\n&nbsp\;\n\n&nbsp\;
ATTACH;FMTTYPE=image/jpeg:https://www.theheathfieldnews.co.uk/wp-content/u
 ploads/2019/11/xmas-30.11.png
END:VEVENT
END:VCALENDAR