BEGIN:VCALENDAR
VERSION:2.0
PRODID:-//wp-events-plugin.com//7.2.2.1//EN
BEGIN:VEVENT
UID:203@theheathfieldnews.co.uk
DTSTART:20230114T093000Z
DTEND:20230114T120000Z
DTSTAMP:20230113T150640Z
URL:https://www.theheathfieldnews.co.uk/whats-on/heathfield-horam-repair-c
 afe/
SUMMARY:Heathfield/Horam Repair Café:
DESCRIPTION:To all our Repair Café customers\, Happy New Year!\n\nGreat ne
 ws for the Heathfield/Horam Repair Café:  Heathfield &amp\; Waldron Pari
 sh Council have generously given us another grant to keep the show on the 
 road and for us to buy a cycle stand (protecting our cycle repairers` back
 s) and a tool sharpener. Watch this space!\n\nThe first meeting this year 
 for the Repair Café is Saturday\, 14 January\, in Horam Village Hall (9.3
 0-12 noon).\n\nWe hope to see as many of you as possible. Don’t forget t
 he yummy cakes and drinks.\n\nProtect our environment and your pockets!\n\
 nhttps://www.facebook.com/RepairCafeTN21\n\nWe meet every second Saturday 
 of the month\, same time and our repairers will do their best to mend your
  broken items. Repairs are free but we welcome a donation.\n\nOn most occa
 sions we will be able to repair: Computers ~ Electrical items ~ Guitar res
 tringing  and other musical instruments ~ Minor mechanical problems ~ Fur
 niture ~ Cycles ~  Small Sewing repairs\n\n&nbsp\;
ATTACH;FMTTYPE=image/jpeg:https://www.theheathfieldnews.co.uk/wp-content/u
 ploads/2023/01/logo.jpg
LOCATION:Horam\, .\, Horam\, East Sussex\, United Kingdom
X-APPLE-STRUCTURED-LOCATION;VALUE=URI;X-ADDRESS=.\, Horam\, East Sussex\, U
 nited Kingdom;X-APPLE-RADIUS=100;X-TITLE=Horam:geo:0,0
END:VEVENT
END:VCALENDAR