BEGIN:VCALENDAR
VERSION:2.0
PRODID:-//wp-events-plugin.com//7.2.2.1//EN
BEGIN:VEVENT
UID:210@theheathfieldnews.co.uk
DTSTART:20230828T100000Z
DTEND:20230828T160000Z
DTSTAMP:20230809T234052Z
URL:https://www.theheathfieldnews.co.uk/whats-on/heathfields-le-marche-is-
 back-and-its-bigger-and-better/
SUMMARY:Heathfield's Le Marche is back - and it's bigger and better!
DESCRIPTION:\nBank Holiday Monday 28 August 2023\nHeathfield’s famous Ang
 lo/French market is taking place on August Bank Holiday Monday – as it h
 as done for the past 26 years – it is the longest running Anglo/French m
 arket in the whole of the South East.\n\nThis fantastic all day event draw
 s visitors into the town of Heathfield from far and wide so please come an
 d join us – you will not be disappointed – whether it is your first vi
 sit or your tenth – it’s all free!!\nFREE entertainment\, FREE park &a
 mp\; ride and FREE programme of events\nStation Road and Station Approach 
 will be closed to traffic all day to allow the extravaganza to take place.
  A full musical entertainment programme is planned to suit all ages and ta
 stes together with the market of around 80 stalls including French offerin
 g all kinds of mouth watering goodies –\nGo on treat yourself – you de
 serve it!\nLots of local shops are open too – you will be pleasantly sur
 prised to discover what Heathfield has to offer.\nGates open at 10.00am an
 d the market closes at 4.00pm
ATTACH;FMTTYPE=image/jpeg:https://www.theheathfieldnews.co.uk/wp-content/u
 ploads/2023/07/logo.jpg
LOCATION:Heathfield\, .\, Heathfield\, East Sussex\, TN21\, South East \, U
 nited Kingdom
GEO:50.9667401;0.2564428000000589
X-APPLE-STRUCTURED-LOCATION;VALUE=URI;X-ADDRESS=.\, Heathfield\, East Susse
 x\, TN21\, South East \, United Kingdom;X-APPLE-RADIUS=100;X-TITLE=Heathfi
 eld:geo:50.9667401,0.2564428000000589
END:VEVENT
END:VCALENDAR