BEGIN:VCALENDAR
VERSION:2.0
PRODID:-//wp-events-plugin.com//7.2.2.1//EN
BEGIN:VEVENT
UID:215@theheathfieldnews.co.uk
DTSTART:20231125T100000Z
DTEND:20231126T160000Z
DTSTAMP:20231009T204935Z
URL:https://www.theheathfieldnews.co.uk/whats-on/hospice-in-the-weald-chri
 stmas-market-25-26-november/
SUMMARY:Hospice in the Weald Christmas Market 25 & 26 November
DESCRIPTION:&nbsp\;\n\n\n\nFrom 10am until 4pm on Saturday 25th and Sun
 day 26th November\, the Hospice gardens will be transformed into a winter
  wonderland with sparkling lights\, a wonderful Christmas market\, games\,
  crafts and performances by Women in Harmony\, Saxissimo\, Sarah Harris an
 d the Tonbridge Scout and Guide Band.\n\nWith over forty stalls selling lo
 cally made crafts and produce including decorations\, fashion\, jewellery\
 , home decor and more\, visitors can enjoy browsing and buying\, as well a
 s sampling the range of food on offer from the Scandilicousfood van\, Simp
 ly Wafflez and\, of course\, the Hospice café will be open too.\n\nThere 
 will be plenty of Christmas crafts available for you to try your hand at\,
  including a wreath-making workshop with Tilly Bee Flowers\, as well as ot
 her activities for all the family. You’ll also have the chance to win fa
 bulous prizes in our raffle and tombola.\n\n\n\n\n\n&nbsp\;\n\nAnd let’s
  not forget the big man himself\, who will\, of course\, be making a speci
 al appearance. Set in his magical grotto\, Father Christmas will be suppor
 ted by the cheeky Hospice elves who will help make Christmas all the more 
 special for your little ones.\n\nIt’s never too early to put the date in
  the diary. Also\, don’t forget to visit our website to book to meet Fat
 her Christmas. Please pre-book the wreath-making activity on the Tilly Bee
  Flowers website. There is a suggested £5 donation to enter the Christmas
  Market with all proceeds going to support Hospice in the Weald.\n\nFor de
 tails and to sign up\, visit the Events section at hospiceintheweald.org.u
 k or call the Fundraising Team on 01892 820533.\n\nHospice in the Weald\, 
 Maidstone Road\, Pembury\, Tunbridge Wells TN2 4TA
ATTACH;FMTTYPE=image/jpeg:https://www.theheathfieldnews.co.uk/wp-content/u
 ploads/2023/10/Christmas-Market-2022-08.jpg
END:VEVENT
END:VCALENDAR