BEGIN:VCALENDAR
VERSION:2.0
PRODID:-//wp-events-plugin.com//7.2.2.1//EN
BEGIN:VEVENT
UID:205@theheathfieldnews.co.uk
DTSTART;VALUE=DATE:20230318
DTEND;VALUE=DATE:20230320
DTSTAMP:20230309T161855Z
URL:https://www.theheathfieldnews.co.uk/whats-on/mothers-day-at-herstmonce
 ux-castle-estate/
SUMMARY:Mothers' Day at Herstmonceux Castle Estate
DESCRIPTION:Celebrating mums all weekend!\n\nSaturday 18th and Sunday 19th 
 March 2023\n\nHalf price admission of just £3.00 for all mums on Saturday
  and Mothering Sunday!\n\nBring your mum along to our beautiful 300-acre e
 state with its stunning 15th century moated castle. She can enjoy a stroll
  around our formal gardens or explore the woodland\, lakes\, and meadows o
 f the wider estate. You can then treat her to a light lunch or afternoon t
 ea in our Chestnuts Tea Room with its tempting range of delicious homemade
  cakes.\n\nwww.herstmonceux-castle.com\n\n \n\n 
ATTACH;FMTTYPE=image/jpeg:https://www.theheathfieldnews.co.uk/wp-content/u
 ploads/2023/03/DSC_7495-scaled.jpg
LOCATION:Herstmonceux\, .\, Herstmonceux\, United Kingdom
X-APPLE-STRUCTURED-LOCATION;VALUE=URI;X-ADDRESS=.\, Herstmonceux\, United K
 ingdom;X-APPLE-RADIUS=100;X-TITLE=Herstmonceux:geo:0,0
END:VEVENT
END:VCALENDAR