BEGIN:VCALENDAR
VERSION:2.0
PRODID:-//wp-events-plugin.com//7.2.2.1//EN
BEGIN:VEVENT
UID:213@theheathfieldnews.co.uk
DTSTART:20230917T083000Z
DTEND:20230917T123000Z
DTSTAMP:20230817T093638Z
URL:https://www.theheathfieldnews.co.uk/whats-on/sign-up-for-hospice-in-th
 e-weald-fun-run-in-tunbridge-wells-on-17-september/
SUMMARY:Sign up for Hospice in the Weald fun run in Tunbridge Wells on 17 S
 eptember
DESCRIPTION:&nbsp\;\n\n\n\nTV presenter Davina McCall along with Paralympia
 n Will Bayley are encouraging people of all ages to sign up to the iconic 
 Hospice Run this 17 September.\n\nThis year’s Run promises to have somet
 hing for everyone\, with a new half marathon\, and Hospice Heroes themed F
 amily Fun Run\, along with the classic 5km and 10km routes.\n\nYou can fin
 d out more on their website: https://www.hospiceintheweald.org.uk/events/h
 ospice-run-2023/\n\nThe event is being generously supported by lead sponso
 r Savills\, along with G. Collins and Son\, Childrensalon and Cripps
ATTACH;FMTTYPE=image/jpeg:https://www.theheathfieldnews.co.uk/wp-content/u
 ploads/2023/08/Hospice-Run-22-002-1.jpg
END:VEVENT
END:VCALENDAR