BEGIN:VCALENDAR
VERSION:2.0
PRODID:-//wp-events-plugin.com//7.2.2.1//EN
BEGIN:VEVENT
UID:207@theheathfieldnews.co.uk
DTSTART:20230513T111500Z
DTEND:20230513T151500Z
DTSTAMP:20230509T144422Z
URL:https://www.theheathfieldnews.co.uk/whats-on/the-chicken-circus-intera
 ctive-sensory-show-specially-written-for-a-young-send-audience-this-saturd
 ay-13-may-in-waldron-heathfield/
SUMMARY:The Chicken Circus - interactive sensory show\, specially written f
 or a young SEND audience. This Saturday 13 May in Waldron\, Heathfield.
DESCRIPTION:Chicken Fun and Frolics on Saturday 13 May at Lucas Memorial Ha
 ll\, Waldron\, nr Heathfield TN21 0RB\n\nThis Saturday enjoy The Chicken
  Circus\, a colourful tale of Mr Fox who steals chickens so he can train 
 them as circus performers. The Makaton Friendly show is an inclusive\, 
 high energy\, interactive sensory performance written especially for a spe
 cial needs and disabilities (SEND) audience. Expect bright sets\, puppetry
 \, music\, sensory props and costumes that stimulate participation.\nOur p
 rofessional acting team will use Makaton signing\, pre-recorded Voice Outp
 ut Communication Aids and multi-sensory experiences to bring this story to
  life\, making it accessible to everyone.\nA resource pack will prepare yo
 ur child for the show and there is a chill-out zone available for anyone r
 equiring a break during the performance.\nPerformances - 11.15am &amp\; 2
 pm\nCost - £8 per person (free for under 2’s)\nDate - Saturday 13th M
 ay 2023\nVenue - Lucas Memorial Hall\, Waldron\, nr Heathfield\, East Suss
 ex TN21 ORB\nBook online https://h2hsensorytheatre.com/product/chicken-c
 ircus/\nWatch the trailer.\nhttps://youtu.be/FWNVucSMP2s\n\n&nbsp\;
ATTACH;FMTTYPE=image/jpeg:https://www.theheathfieldnews.co.uk/wp-content/u
 ploads/2023/05/puppet.jpg
LOCATION:Waldron\, .\, Waldron\, East Sussex\, TN21 9AH\, United Kingdom
X-APPLE-STRUCTURED-LOCATION;VALUE=URI;X-ADDRESS=.\, Waldron\, East Sussex\,
  TN21 9AH\, United Kingdom;X-APPLE-RADIUS=100;X-TITLE=Waldron:geo:0,0
END:VEVENT
END:VCALENDAR